BEGIN:VCALENDAR
VERSION:2.0
PRODID:-//Grimpe 13 - ECPv6.15.15//NONSGML v1.0//EN
CALSCALE:GREGORIAN
METHOD:PUBLISH
X-WR-CALNAME:Grimpe 13
X-ORIGINAL-URL:https://grimpe13.org
X-WR-CALDESC:Évènements pour Grimpe 13
REFRESH-INTERVAL;VALUE=DURATION:PT1H
X-Robots-Tag:noindex
X-PUBLISHED-TTL:PT1H
BEGIN:VTIMEZONE
TZID:Europe/Paris
BEGIN:DAYLIGHT
TZOFFSETFROM:+0100
TZOFFSETTO:+0200
TZNAME:CEST
DTSTART:20250330T010000
END:DAYLIGHT
BEGIN:STANDARD
TZOFFSETFROM:+0200
TZOFFSETTO:+0100
TZNAME:CET
DTSTART:20251026T010000
END:STANDARD
BEGIN:DAYLIGHT
TZOFFSETFROM:+0100
TZOFFSETTO:+0200
TZNAME:CEST
DTSTART:20260329T010000
END:DAYLIGHT
BEGIN:STANDARD
TZOFFSETFROM:+0200
TZOFFSETTO:+0100
TZNAME:CET
DTSTART:20261025T010000
END:STANDARD
BEGIN:DAYLIGHT
TZOFFSETFROM:+0100
TZOFFSETTO:+0200
TZNAME:CEST
DTSTART:20270328T010000
END:DAYLIGHT
BEGIN:STANDARD
TZOFFSETFROM:+0200
TZOFFSETTO:+0100
TZNAME:CET
DTSTART:20271031T010000
END:STANDARD
END:VTIMEZONE
BEGIN:VEVENT
DTSTART;VALUE=DATE:20260228
DTEND;VALUE=DATE:20260316
DTSTAMP:20260424T215244
CREATED:20251230T101548Z
LAST-MODIFIED:20260309T213521Z
UID:1680-1772236800-1773619199@grimpe13.org
SUMMARY:Rassemblement Hivernal FSGT 2026 du 28 février au 15 mars
DESCRIPTION:Une nouvelle édition du rassemblement Hivernal omni-sport de la FSGT Montagne et Escalade va avoir lieu ! \nCe rassemblement annuel permet de rassembler des personnes\, issu.es de clubs FSGT de toute la France\, pour découvrir et pratiquer différents sports de montagne tels que le ski de rando\, les raquettes\, le skating et même l’escalade ! C’est un véritable rassemblement multi-sports : tout est possible de faire\, ouvert à tout le monde\, que vous soyez débutant.es ou experimenté.es ! Que ce soit ta première fois\, ou presque\, dans la neige\, que tu sois initiateurice ou même que tu ne skies pas du tout\, tu es la.e bienvenu.e ! \nLe deuxième volet du Rassemblement est tourné vers les luttes et solidarités en montagne à  travers des rencontres et actions menées avec les associations locales. \nIl faudra se positionner sur l’une des deux semaines lors de ton inscription (il ne sera pas possible d’enchaîner les 2 semaines). \nL’inscription est ouverte jusqu’au 5 janvier. \nDates et Hébergement : \n > du 28 février au 8 mars 2026\, aux Croquignards à La Roche-de-Rame (lieu pouvant accueillir environ 20 personnes). \n > du 7 au 15 mars 2026\, au Gîte de la Ferme de la Tour\, à Villard Saint-Pancrace (gîte pouvant accueillir 25 personnes). \nPlus de détails dans le mail reçu.
URL:https://grimpe13.org/event/rassemblement-hivernal-fsgt-2026/
LOCATION:Briançonnais\, France
CATEGORIES:Sorties
END:VEVENT
BEGIN:VEVENT
DTSTART;VALUE=DATE:20260314
DTEND;VALUE=DATE:20260318
DTSTAMP:20260424T215244
CREATED:20251208T092107Z
LAST-MODIFIED:20251208T092736Z
UID:1669-1773446400-1773791999@grimpe13.org
SUMMARY:Sortie Grande voie dans les Calanques du 14 au 17 mars 2026
DESCRIPTION:Céline et Matthieu organisent une sortie Grande voie dans la Calanque de Sormiou et/ou Morgiou du 14 au 17 mars 2026.\n\nLa sortie est ouverte aux adultes autonomes en couenne de niveau 5B en tête minimum\, qu’ils soient débutants ou autonomes en grande voie. La date limite d’inscription est le samedi 20 décembre. Le coût estimé de la sortie s’élève à 270€.\n\nPour s’inscrire\, envoyer un mail à Céline et Matthieu en précisant son niveau et son expérience en falaise.
URL:https://grimpe13.org/event/sortie-grande-voie-dans-les-calanques-du-14-au-17-mars-2026/
CATEGORIES:Sorties
END:VEVENT
BEGIN:VEVENT
DTSTART;VALUE=DATE:20260321
DTEND;VALUE=DATE:20260322
DTSTAMP:20260424T215244
CREATED:20260120T152623Z
LAST-MODIFIED:20260120T152623Z
UID:1722-1774051200-1774137599@grimpe13.org
SUMMARY:Ouverture des voies
DESCRIPTION:Le samedi 21 mars sera consacré à l’ouverture de nouvelles voies. La grimpe libre est impossible ce jour.
URL:https://grimpe13.org/event/ouverture-des-voies-2/
CATEGORIES:Vie du club
END:VEVENT
BEGIN:VEVENT
DTSTART;VALUE=DATE:20260327
DTEND;VALUE=DATE:20260330
DTSTAMP:20260424T215244
CREATED:20251230T105211Z
LAST-MODIFIED:20260201T123604Z
UID:1685-1774569600-1774828799@grimpe13.org
SUMMARY:Assemblée Nationale d'Activité pour la Montagne Escalade
DESCRIPTION:L’Assemblée nationale de l’activité Montagne & Escalade se tiendra les 27\, 28 et 29 mars 2026  à l’espace Robespierre d’Ivry-sur-Seine.\n\nDepuis la dernière Assemblée nationale en 2019\, la branche Montagne-Escalade de la FSGT a connu des évolutions importantes. De nouveaux projets ont vu le jour\, de nouvelles dynamiques fédérales et régionales se sont développées\, transformant nos liens et notre culture commune. Nos pratiques sportives et associatives changent\, nos formations aussi. Nos sujets de réflexions\, de travail et de débats collectifs ont eux aussi évolué. Enfin\, le nombre de clubs et d’adhérent·es a augmenté !\n\nAu sein de la commission fédérale Montagne-Escalade (CFME)\, mais aussi chez quelques pratiquant·es et militant·es de nos clubs\, le constat de ces nouvelles dynamiques a progressivement fait naître l’idée et l’envie d’organiser cette Assemblée nationale.\n\nElle portera ainsi deux ambitions :\n–   Prendre un temps de réflexion collective pour analyser les évolutions récentes\, faire le point sur ce qui fonctionne\, ce qui reste à imaginer et sur ce qui fait débat\, et définir ensemble des orientations et un projet pour les années à venir ;\n–   Repenser la gouvernance de la branche\, et donc réformer la CFME\, pour l’adapter à ce projet commun\n\nTel est le sens de l’invitation que nous vous adressons aujourd’hui. Cette ANA 2026 a été pensée comme un moment fort de notre vie fédérale : un temps de rencontre\, de débat et de construction collective entre clubs\, collectifs\, bénévoles et militant·es.\n\nLa date limite d’inscription est fixée au 1er mars 2026. \n\nPlus d’informations dans les mails envoyés.
URL:https://grimpe13.org/event/assemblee-nationale-dactivite-pour-la-montagne-escalade/
LOCATION:Ivry\, Ivry\, France
CATEGORIES:Vie du club
END:VEVENT
BEGIN:VEVENT
DTSTART;TZID=Europe/Paris:20260327T190000
DTEND;TZID=Europe/Paris:20260327T220000
DTSTAMP:20260424T215244
CREATED:20260309T220557Z
LAST-MODIFIED:20260311T144352Z
UID:1768-1774638000-1774648800@grimpe13.org
SUMMARY:Soirée Volume vendredi 27 mars
DESCRIPTION:La soirée Volume est de retour ! Nous vous donnons rdv le vendredi 27 mars à partir de 19h au gymnase de Choisy pour grimper un grand nombre de voies dans une ambiance conviviale.\n \nDeux objectifs pour cette session :\n– grimper le plus de voies différentes possibles en 2h30\n– atteindre collectivement l’altitude d’un sommet des Alpes grâce au total des voies grimpées par tous les participants. Pour s’inscrire\, retrouvez le lien dans le mail qui vous a été envoyé. Venez seul.e ou en binôme\, des binômes seront formés en début de soirée.A bientôt ! \nAnaïs et Raphaël
URL:https://grimpe13.org/event/soiree-volume-vendredi-27-mars/
LOCATION:Gymnase Choisy\, 4 avenue de Choisy\, Paris\, 75013\, France
CATEGORIES:Vie du club
END:VEVENT
END:VCALENDAR