BEGIN:VCALENDAR
VERSION:2.0
PRODID:-//Grimpe 13 - ECPv6.15.15//NONSGML v1.0//EN
CALSCALE:GREGORIAN
METHOD:PUBLISH
X-WR-CALNAME:Grimpe 13
X-ORIGINAL-URL:https://grimpe13.org
X-WR-CALDESC:Évènements pour Grimpe 13
REFRESH-INTERVAL;VALUE=DURATION:PT1H
X-Robots-Tag:noindex
X-PUBLISHED-TTL:PT1H
BEGIN:VTIMEZONE
TZID:Europe/Paris
BEGIN:DAYLIGHT
TZOFFSETFROM:+0100
TZOFFSETTO:+0200
TZNAME:CEST
DTSTART:20240331T010000
END:DAYLIGHT
BEGIN:STANDARD
TZOFFSETFROM:+0200
TZOFFSETTO:+0100
TZNAME:CET
DTSTART:20241027T010000
END:STANDARD
BEGIN:DAYLIGHT
TZOFFSETFROM:+0100
TZOFFSETTO:+0200
TZNAME:CEST
DTSTART:20250330T010000
END:DAYLIGHT
BEGIN:STANDARD
TZOFFSETFROM:+0200
TZOFFSETTO:+0100
TZNAME:CET
DTSTART:20251026T010000
END:STANDARD
BEGIN:DAYLIGHT
TZOFFSETFROM:+0100
TZOFFSETTO:+0200
TZNAME:CEST
DTSTART:20260329T010000
END:DAYLIGHT
BEGIN:STANDARD
TZOFFSETFROM:+0200
TZOFFSETTO:+0100
TZNAME:CET
DTSTART:20261025T010000
END:STANDARD
END:VTIMEZONE
BEGIN:VEVENT
DTSTART;TZID=Europe/Paris:20251104T200000
DTEND;TZID=Europe/Paris:20251104T220000
DTSTAMP:20260425T052550
CREATED:20251104T150424Z
LAST-MODIFIED:20251117T210048Z
UID:1324-1762286400-1762293600@grimpe13.org
SUMMARY:Réouverture du gymnase de Choisy
DESCRIPTION:A l’occasion de la réouverture du gymnase de Choisy le mardi 4 novembre\, Grimpe 13 vous propose un apéro pour (re)découvrir le gymnase. Une distribution de porte-licences et pastilles d’autonomie est également prévue\, ainsi que la vente de tee-shirts\, débardeurs et sweats Grimpe 13. \nRdv à partir de 20h au 110 boulevard Masséna\, Paris 13e.
URL:https://grimpe13.org/event/reouverture-du-gymnase-de-choisy/
CATEGORIES:Archives,Vie du club
END:VEVENT
BEGIN:VEVENT
DTSTART;TZID=Europe/Paris:20251108T080000
DTEND;TZID=Europe/Paris:20251111T170000
DTSTAMP:20260425T052550
CREATED:20250924T170605Z
LAST-MODIFIED:20250930T134633Z
UID:1213-1762588800-1762880400@grimpe13.org
SUMMARY:Sortie escalade du 8 au 11 novembre à Châteauvert au nord de Toulon
DESCRIPTION:Bonjour les grimpeuses et les grimpeurs\, \nNous vous proposons une sortie couenne du 8 au 11 novembre* à Chateauvert\, au nord de Toulon. La sortie est ouverte à 8 participant.e.s\, déjà autonomes en couenne. (* Attention le lundi 10/11 n’est pas férié). \nLe site propose plus de 200 voies de couenne\, de 15 à 40 m\, dans un superbe calcaire très sculpté. Du 5 au 8\, chacun peut s’amuser et progresser\, que vous soyez nouvellement autonome ou grimpeur confirmé. L’approche est rapide\, le cadre naturel magnifique\, avec l’Argens qui coule au pied des voies. \nNous proposons de partir le samedi matin tôt en train vers Aix-en-Provence\, récupérer deux voitures de location à l’arrivée\, pour commencer à grimper en début d’après-midi. Le retour se fera mardi en fin de journée. \nConcernant le logement\, nous avons réservé une charmante maison à 15 minutes en voiture du site d’escalade\, au coeur du village de Cotignac. \nPour s’inscrire\, merci de compléter le formulaire ci-dessous : \nL’inscription sera confirmée par mail. Nous demanderons également le versement de 50€ d’Arrhes. \nBonne grimpe à toutes et tous\, et à bientôt ! \n\nThomas et Frédéric
URL:https://grimpe13.org/event/membres-sortie-couenne-du-8-au-11-novembre-a-chateauvert-au-nord-de-toulon/
LOCATION:Chateauvert\, Chateauvert\, 83670\, France
CATEGORIES:Sorties
END:VEVENT
BEGIN:VEVENT
DTSTART;TZID=Europe/Paris:20251108T080000
DTEND;TZID=Europe/Paris:20251112T170000
DTSTAMP:20260425T052550
CREATED:20250924T170406Z
LAST-MODIFIED:20250930T132325Z
UID:1209-1762588800-1762966800@grimpe13.org
SUMMARY:Sortie escalade dans l'Hérault du 8 au 12 novembre 2025
DESCRIPTION:Salut\,\n\nC’est à peine la rentrée que tu penses déjà à tes prochains congés ? Pourquoi pas faire un petit break en novembre et t’éloigner de la grisaille parisienne ?\n\nNous te proposons d’aller explorer les belles falaises autour de Montpellier du 8 au 12 novembre ; 2 jours à poser pour 5 jours de grimpe\, c’est une rentabilité de placement que même un influenceur résidant à Dubaï n’oserait pas proposer !\nOn trouve de tout (dalles\, vertical\, dévers) de tout niveau\, de la couenne ou des « petites » grandes voies. Le coin se prête donc très bien à la découverte de la falaise ou a l’initiation à la grande voie aussi bien qu’à la performance pour les confirmés. De plus il y a toutes les orientations ce qui fait qu’on peut y grimper toute l’année.\n\nCi-joint quelques liens pour te donner envie :\nhttps://www.escalosud.com/escalade-a-saint-jean-de-bueges-herault/\nhttps://www.escalosud.com/escalade-a-saint-bauzille-de-montmel/\nEt l’affiche en PJ pour les infos pratiques.\n\nLa sortie est ouverte à tous : débutant en falaise (autonome au mur) ou confirmé. Une formation aux manips de corde te sera dispensée le cas échéant.\nPour t’inscrire (indique ton expérience en escalade) ou pour toute question\, envoie un mail à Matthieu et Céline.\nDate limite d’inscription samedi 27 septembre 18h.\nNous serons présents à la soirée d’accueil du 22 septembre pour répondre à toutes tes questions.\n\nA bientôt\n\nCéline et Matthieu
URL:https://grimpe13.org/event/membres-sortie-escalade-herault-8-au-12-novembre-2025/
CATEGORIES:Sorties
ATTACH;FMTTYPE=image/jpeg:https://grimpe13.org/wp-content/uploads/2025/09/Puech_des_Mourgues.jpg
END:VEVENT
BEGIN:VEVENT
DTSTART;TZID=Europe/Paris:20251124T190000
DTEND;TZID=Europe/Paris:20251124T210000
DTSTAMP:20260425T052550
CREATED:20251117T190850Z
LAST-MODIFIED:20251117T201237Z
UID:1452-1764010800-1764018000@grimpe13.org
SUMMARY:Réunion du collectif animation
DESCRIPTION:Le collectif animation se réunit le lundi 24 novembre à partir de 19h. \nLe collectif d’animation est l’instance du club chargée de décider\, d’organiser\, et communiquer sur tous les sujets non-administratifs qui touchent à la vie du club\, et qui ne sont pas dans la routine des autres collectifs. Les exemples sont en général plus parlant : organiser une soirée thématique\, proposer un contest sur notre mur pour les autres clubs\, mais aussi prévenir et traiter les questions de VSS\, ou recruter pour la participation du club à des évènements fédéraux. C’est la réunion parfaite pour comprendre comment s’investir dans la vie du club\, et proposer vos initiatives.
URL:https://grimpe13.org/event/reunion-du-collectif-animation/
CATEGORIES:Vie du club
END:VEVENT
BEGIN:VEVENT
DTSTART;TZID=Europe/Paris:20251128T080000
DTEND;TZID=Europe/Paris:20251130T170000
DTSTAMP:20260425T052550
CREATED:20251001T111813Z
LAST-MODIFIED:20251030T084814Z
UID:1254-1764316800-1764522000@grimpe13.org
SUMMARY:Sortie escalade dans le massif de l'Estérel du 28 au 30 novembre 2025
DESCRIPTION:Anaïs et Bastien vous proposent d’aller tester la grimpe sur le rocher rouge de l’Estérel du vendredi 28 matin au dimanche 30 novembre soir. \nLa sortie est ouverte aux débutant.e.s en falaise (autonomes au mur) ou confirmé.e.s. Une formation aux manips de corde sera dispensée le cas échéant. \nPour s’inscrire\, il suffit d’envoyer un mail à Anaïs et Bastien en indiquant son expérience en falaise et son niveau en salle et/ou falaise.
URL:https://grimpe13.org/event/sortie-escalade-dans-le-massif-de-lesterel-du-28-au-20-novembre-2025/
CATEGORIES:Sorties
ATTACH;FMTTYPE=image/jpeg:https://grimpe13.org/wp-content/uploads/2025/10/20250509_130614-scaled.jpg
END:VEVENT
END:VCALENDAR