BEGIN:VCALENDAR
VERSION:2.0
PRODID:-//Grimpe 13 - ECPv6.15.15//NONSGML v1.0//EN
CALSCALE:GREGORIAN
METHOD:PUBLISH
X-ORIGINAL-URL:https://grimpe13.org
X-WR-CALDESC:Évènements pour Grimpe 13
REFRESH-INTERVAL;VALUE=DURATION:PT1H
X-Robots-Tag:noindex
X-PUBLISHED-TTL:PT1H
BEGIN:VTIMEZONE
TZID:Europe/Paris
BEGIN:DAYLIGHT
TZOFFSETFROM:+0100
TZOFFSETTO:+0200
TZNAME:CEST
DTSTART:20240331T010000
END:DAYLIGHT
BEGIN:STANDARD
TZOFFSETFROM:+0200
TZOFFSETTO:+0100
TZNAME:CET
DTSTART:20241027T010000
END:STANDARD
BEGIN:DAYLIGHT
TZOFFSETFROM:+0100
TZOFFSETTO:+0200
TZNAME:CEST
DTSTART:20250330T010000
END:DAYLIGHT
BEGIN:STANDARD
TZOFFSETFROM:+0200
TZOFFSETTO:+0100
TZNAME:CET
DTSTART:20251026T010000
END:STANDARD
BEGIN:DAYLIGHT
TZOFFSETFROM:+0100
TZOFFSETTO:+0200
TZNAME:CEST
DTSTART:20260329T010000
END:DAYLIGHT
BEGIN:STANDARD
TZOFFSETFROM:+0200
TZOFFSETTO:+0100
TZNAME:CET
DTSTART:20261025T010000
END:STANDARD
END:VTIMEZONE
BEGIN:VEVENT
DTSTART;TZID=Europe/Paris:20251124T190000
DTEND;TZID=Europe/Paris:20251124T210000
DTSTAMP:20260425T135307
CREATED:20251117T190850Z
LAST-MODIFIED:20251117T201237Z
UID:1452-1764010800-1764018000@grimpe13.org
SUMMARY:Réunion du collectif animation
DESCRIPTION:Le collectif animation se réunit le lundi 24 novembre à partir de 19h. \nLe collectif d’animation est l’instance du club chargée de décider\, d’organiser\, et communiquer sur tous les sujets non-administratifs qui touchent à la vie du club\, et qui ne sont pas dans la routine des autres collectifs. Les exemples sont en général plus parlant : organiser une soirée thématique\, proposer un contest sur notre mur pour les autres clubs\, mais aussi prévenir et traiter les questions de VSS\, ou recruter pour la participation du club à des évènements fédéraux. C’est la réunion parfaite pour comprendre comment s’investir dans la vie du club\, et proposer vos initiatives.
URL:https://grimpe13.org/event/reunion-du-collectif-animation/
CATEGORIES:Vie du club
END:VEVENT
END:VCALENDAR