BEGIN:VCALENDAR
VERSION:2.0
PRODID:-//Grimpe 13 - ECPv6.15.15//NONSGML v1.0//EN
CALSCALE:GREGORIAN
METHOD:PUBLISH
X-ORIGINAL-URL:https://grimpe13.org
X-WR-CALDESC:Évènements pour Grimpe 13
REFRESH-INTERVAL;VALUE=DURATION:PT1H
X-Robots-Tag:noindex
X-PUBLISHED-TTL:PT1H
BEGIN:VTIMEZONE
TZID:Europe/Paris
BEGIN:DAYLIGHT
TZOFFSETFROM:+0100
TZOFFSETTO:+0200
TZNAME:CEST
DTSTART:20250330T010000
END:DAYLIGHT
BEGIN:STANDARD
TZOFFSETFROM:+0200
TZOFFSETTO:+0100
TZNAME:CET
DTSTART:20251026T010000
END:STANDARD
BEGIN:DAYLIGHT
TZOFFSETFROM:+0100
TZOFFSETTO:+0200
TZNAME:CEST
DTSTART:20260329T010000
END:DAYLIGHT
BEGIN:STANDARD
TZOFFSETFROM:+0200
TZOFFSETTO:+0100
TZNAME:CET
DTSTART:20261025T010000
END:STANDARD
BEGIN:DAYLIGHT
TZOFFSETFROM:+0100
TZOFFSETTO:+0200
TZNAME:CEST
DTSTART:20270328T010000
END:DAYLIGHT
BEGIN:STANDARD
TZOFFSETFROM:+0200
TZOFFSETTO:+0100
TZNAME:CET
DTSTART:20271031T010000
END:STANDARD
END:VTIMEZONE
BEGIN:VEVENT
DTSTART;VALUE=DATE:20260501
DTEND;VALUE=DATE:20260504
DTSTAMP:20260424T221408
CREATED:20260120T143210Z
LAST-MODIFIED:20260120T143210Z
UID:1693-1777593600-1777852799@grimpe13.org
SUMMARY:Sortie vélo-escalade à Clécy du 1er au 3 mai 2026
DESCRIPTION:Anne et Laurent proposent du 1er au 3 mai un week-end vélo-escalade à Clécy. \nClécy se situe en Suisse normande entre Caen et Flers. C’est l’une des plus grandes falaises de l’ouest\, et la région Normandie est particulièrement belle au mois de mai. \nLe trajet s’effectuera en train puis vélo à partir de la gare de Flers (30 kilomètres environ). Le logement se fera en bungalows au camping des Rochers des Parcs afin de voyager léger. Le coût estimé de la sortie s’élève à 150€. \nLa sortie est ouverte aux débutants en falaise. Le groupe sera de 8-10 personnes. \nLes demandes d’inscription et questions éventuelles sont à adresser à Anne et Laurent par mail.
URL:https://grimpe13.org/event/sortie-velo-escalade-a-clecy-du-1er-au-3-mai-2026/
CATEGORIES:Sorties
END:VEVENT
END:VCALENDAR