BEGIN:VCALENDAR
VERSION:2.0
PRODID:-//Grimpe 13 - ECPv6.15.15//NONSGML v1.0//EN
CALSCALE:GREGORIAN
METHOD:PUBLISH
X-ORIGINAL-URL:https://grimpe13.org
X-WR-CALDESC:Évènements pour Grimpe 13
REFRESH-INTERVAL;VALUE=DURATION:PT1H
X-Robots-Tag:noindex
X-PUBLISHED-TTL:PT1H
BEGIN:VTIMEZONE
TZID:Europe/Paris
BEGIN:DAYLIGHT
TZOFFSETFROM:+0100
TZOFFSETTO:+0200
TZNAME:CEST
DTSTART:20250330T010000
END:DAYLIGHT
BEGIN:STANDARD
TZOFFSETFROM:+0200
TZOFFSETTO:+0100
TZNAME:CET
DTSTART:20251026T010000
END:STANDARD
BEGIN:DAYLIGHT
TZOFFSETFROM:+0100
TZOFFSETTO:+0200
TZNAME:CEST
DTSTART:20260329T010000
END:DAYLIGHT
BEGIN:STANDARD
TZOFFSETFROM:+0200
TZOFFSETTO:+0100
TZNAME:CET
DTSTART:20261025T010000
END:STANDARD
BEGIN:DAYLIGHT
TZOFFSETFROM:+0100
TZOFFSETTO:+0200
TZNAME:CEST
DTSTART:20270328T010000
END:DAYLIGHT
BEGIN:STANDARD
TZOFFSETFROM:+0200
TZOFFSETTO:+0100
TZNAME:CET
DTSTART:20271031T010000
END:STANDARD
END:VTIMEZONE
BEGIN:VEVENT
DTSTART;VALUE=DATE:20260425
DTEND;VALUE=DATE:20260503
DTSTAMP:20260424T222903
CREATED:20251208T092633Z
LAST-MODIFIED:20251208T092748Z
UID:1672-1777075200-1777766399@grimpe13.org
SUMMARY:Sortie escalade en Ariège du 25 avril au 2 mai 2026
DESCRIPTION:Céline et Cécile proposent une sortie couenne et grande voie en Ariège du 25 avril au 2 mai 2026.\nL’Ariège est un département riche en falaises. Des falaises de Gneiss\, de Granite ou encore du Calcaire. De la dalle\, du vertical ou du dévers. De la couenne ou de la grande voie. Et toutes les orientations et tous niveaux depuis le 5 jusqu’au 8 bien tassé. Bref il y en a pour tous le monde et pour tous les goûts. Le tout dans un cadre magnifique. Parmi les incontournables\, on trouve la dent d’orlu\, Calamès\, Le Quié de Sinsat\, Auzat…\n\nLa sortie est ouverte aux adultes ayant au moins une expérience d’escalade en falaise en tête dans le 5. Le niveau minimum recommandé est 5A+ en tête. Nous pourrons vous former aux manips de corde le cas échéant.\n\nPour toute information ou s’inscrire\, envoyer un mail aux organisatrices en indiquant son expérience en escalade et son niveau avant le 17 janvier.
URL:https://grimpe13.org/event/sortie-escalade-en-ariege-du-25-avril-au-2-mai-2026/
CATEGORIES:Sorties
END:VEVENT
END:VCALENDAR