BEGIN:VCALENDAR
VERSION:2.0
PRODID:-//Grimpe 13 - ECPv6.15.15//NONSGML v1.0//EN
CALSCALE:GREGORIAN
METHOD:PUBLISH
X-ORIGINAL-URL:https://grimpe13.org
X-WR-CALDESC:Évènements pour Grimpe 13
REFRESH-INTERVAL;VALUE=DURATION:PT1H
X-Robots-Tag:noindex
X-PUBLISHED-TTL:PT1H
BEGIN:VTIMEZONE
TZID:Europe/Paris
BEGIN:DAYLIGHT
TZOFFSETFROM:+0100
TZOFFSETTO:+0200
TZNAME:CEST
DTSTART:20250330T010000
END:DAYLIGHT
BEGIN:STANDARD
TZOFFSETFROM:+0200
TZOFFSETTO:+0100
TZNAME:CET
DTSTART:20251026T010000
END:STANDARD
BEGIN:DAYLIGHT
TZOFFSETFROM:+0100
TZOFFSETTO:+0200
TZNAME:CEST
DTSTART:20260329T010000
END:DAYLIGHT
BEGIN:STANDARD
TZOFFSETFROM:+0200
TZOFFSETTO:+0100
TZNAME:CET
DTSTART:20261025T010000
END:STANDARD
BEGIN:DAYLIGHT
TZOFFSETFROM:+0100
TZOFFSETTO:+0200
TZNAME:CEST
DTSTART:20270328T010000
END:DAYLIGHT
BEGIN:STANDARD
TZOFFSETFROM:+0200
TZOFFSETTO:+0100
TZNAME:CET
DTSTART:20271031T010000
END:STANDARD
END:VTIMEZONE
BEGIN:VEVENT
DTSTART;VALUE=DATE:20260401
DTEND;VALUE=DATE:20260409
DTSTAMP:20260424T220929
CREATED:20260128T231220Z
LAST-MODIFIED:20260201T112435Z
UID:1737-1775001600-1775692799@grimpe13.org
SUMMARY:Sortie interclub grandes voies à Presles
DESCRIPTION:Une équipe composée d’adhérent·es de Cimes 19 et Grimpe 13 organise une sortie grandes voies à Presles\, en Isère. \nVoir quelques infos sur la falaise ici. \nPour qui ? Le groupe sera composé de 8 personnes autonomes en grandes voies sportives\, grimpant dans le niveau 6b minimum ; objectif de parité de genre. \nAmatrices et amateurs de terrain d’aventure bienvenu·es\, il y a de quoi faire à Presles. \nPour compléter le groupe\, nous ouvrons des préinscriptions jusqu’au 6 février.  Réponses données le 7 dans la soirée au plus tard\, pour que vous puissiez prendre vos billets de train.
URL:https://grimpe13.org/event/sortie-interclub-grandes-voies-a-presles/
CATEGORIES:Sorties
END:VEVENT
END:VCALENDAR