BEGIN:VCALENDAR
VERSION:2.0
PRODID:-//Grimpe 13 - ECPv6.15.15//NONSGML v1.0//EN
CALSCALE:GREGORIAN
METHOD:PUBLISH
X-WR-CALNAME:Grimpe 13
X-ORIGINAL-URL:https://grimpe13.org
X-WR-CALDESC:Évènements pour Grimpe 13
REFRESH-INTERVAL;VALUE=DURATION:PT1H
X-Robots-Tag:noindex
X-PUBLISHED-TTL:PT1H
BEGIN:VTIMEZONE
TZID:Europe/Paris
BEGIN:DAYLIGHT
TZOFFSETFROM:+0100
TZOFFSETTO:+0200
TZNAME:CEST
DTSTART:20250330T010000
END:DAYLIGHT
BEGIN:STANDARD
TZOFFSETFROM:+0200
TZOFFSETTO:+0100
TZNAME:CET
DTSTART:20251026T010000
END:STANDARD
BEGIN:DAYLIGHT
TZOFFSETFROM:+0100
TZOFFSETTO:+0200
TZNAME:CEST
DTSTART:20260329T010000
END:DAYLIGHT
BEGIN:STANDARD
TZOFFSETFROM:+0200
TZOFFSETTO:+0100
TZNAME:CET
DTSTART:20261025T010000
END:STANDARD
BEGIN:DAYLIGHT
TZOFFSETFROM:+0100
TZOFFSETTO:+0200
TZNAME:CEST
DTSTART:20270328T010000
END:DAYLIGHT
BEGIN:STANDARD
TZOFFSETFROM:+0200
TZOFFSETTO:+0100
TZNAME:CET
DTSTART:20271031T010000
END:STANDARD
END:VTIMEZONE
BEGIN:VEVENT
DTSTART;VALUE=DATE:20260116
DTEND;VALUE=DATE:20260120
DTSTAMP:20260425T035711
CREATED:20251104T145543Z
LAST-MODIFIED:20251104T145543Z
UID:1318-1768521600-1768867199@grimpe13.org
SUMMARY:Sortie escalade dans les Calanques du 16 au 19 janvier 2026
DESCRIPTION:Anaïs et Laurent vous proposent une sortie couenne et grande voie dans la Calanque des Goudes du vendredi 16 janvier matin au lundi 19 janvier soir. \nLa sortie est ouverte à toute personne autonome en couenne avec un niveau 5B minimum. Des formations et de l’accompagnement seront proposés aux débutant•e•s en grande voie.  \nInscription par mail avant le vendredi 14 novembre. \n 
URL:https://grimpe13.org/event/sortie-escalade-dans-les-calanques-du-16-au-19-janvier-2026/
LOCATION:Rocher des Goudes
CATEGORIES:Sorties
END:VEVENT
END:VCALENDAR