BEGIN:VCALENDAR
VERSION:2.0
PRODID:-//Grimpe 13 - ECPv6.15.15//NONSGML v1.0//EN
CALSCALE:GREGORIAN
METHOD:PUBLISH
X-ORIGINAL-URL:https://grimpe13.org
X-WR-CALDESC:Évènements pour Grimpe 13
REFRESH-INTERVAL;VALUE=DURATION:PT1H
X-Robots-Tag:noindex
X-PUBLISHED-TTL:PT1H
BEGIN:VTIMEZONE
TZID:Europe/Paris
BEGIN:DAYLIGHT
TZOFFSETFROM:+0100
TZOFFSETTO:+0200
TZNAME:CEST
DTSTART:20250330T010000
END:DAYLIGHT
BEGIN:STANDARD
TZOFFSETFROM:+0200
TZOFFSETTO:+0100
TZNAME:CET
DTSTART:20251026T010000
END:STANDARD
BEGIN:DAYLIGHT
TZOFFSETFROM:+0100
TZOFFSETTO:+0200
TZNAME:CEST
DTSTART:20260329T010000
END:DAYLIGHT
BEGIN:STANDARD
TZOFFSETFROM:+0200
TZOFFSETTO:+0100
TZNAME:CET
DTSTART:20261025T010000
END:STANDARD
BEGIN:DAYLIGHT
TZOFFSETFROM:+0100
TZOFFSETTO:+0200
TZNAME:CEST
DTSTART:20270328T010000
END:DAYLIGHT
BEGIN:STANDARD
TZOFFSETFROM:+0200
TZOFFSETTO:+0100
TZNAME:CET
DTSTART:20271031T010000
END:STANDARD
END:VTIMEZONE
BEGIN:VEVENT
DTSTART;VALUE=DATE:20260713
DTEND;VALUE=DATE:20260720
DTSTAMP:20260425T025239
CREATED:20260417T124216Z
LAST-MODIFIED:20260417T124216Z
UID:1796-1783900800-1784505599@grimpe13.org
SUMMARY:Sortie Grandes voies et couenne dans le massif des Ecrins du 13 au 19 juillet 2026
DESCRIPTION:Céline et Jacqueline proposent une sortie sur 5 jours dans le massif des Ecrins\, du côté de Champcella du lundi soir 13 juillet au dimanche 19 juillet matin.  \nLe pays des Ecrins regorge de sites d’escalade aussi bien de grandes voies que de couennes de tous niveau et de tout type (dalle\, vertical\, dévers). C’est là qu’on peut grimper les plus belles montagnes de France! Grimper autour de Champcella permet de découvrir des spots magnifiques et pas trop fréquentés.\n\n\nCette sortie est dédiée à la grande voie\, toutefois de nombreux secteurs de couenne de tous niveaux peuvent être au programme !\n\nLa sortie est ouverte pour 8 participant·e·s.\, autonomes en couenne avec un niveau minimum de 5C. Débutants grandes voies acceptés.\nDes sessions de révision des manips pourront être proposées avant le départ si nécessaire.\n\nLe coût de la sortie est estimé en 375€ et 500€. Un versement de 100€ d’Arrhes est demandé.\n\n\nPour s’inscrire\, il suffit d’envoyer un mail à Céline et Jacqueline en indiquant son expérience en falaise et son niveau en salle et/ou falaise.\n\nLes dates peuvent légèrement varier en fonction du retour des intéressés et des souhaits de mode de transport (voiture ou train+voiture)\n\nLes inscriptions sont ouvertes jusqu’au samedi 2 mai afin de réserver les billets de train de nuit si option retenue.
URL:https://grimpe13.org/event/sortie-grandes-voies-et-couenne-dans-le-massif-des-ecrins-du-13-au-19-juillet-2026/
CATEGORIES:Sorties
END:VEVENT
END:VCALENDAR