BEGIN:VCALENDAR
VERSION:2.0
PRODID:-//Grimpe 13 - ECPv6.15.15//NONSGML v1.0//EN
CALSCALE:GREGORIAN
METHOD:PUBLISH
X-WR-CALNAME:Grimpe 13
X-ORIGINAL-URL:https://grimpe13.org
X-WR-CALDESC:Évènements pour Grimpe 13
REFRESH-INTERVAL;VALUE=DURATION:PT1H
X-Robots-Tag:noindex
X-PUBLISHED-TTL:PT1H
BEGIN:VTIMEZONE
TZID:Europe/Paris
BEGIN:DAYLIGHT
TZOFFSETFROM:+0100
TZOFFSETTO:+0200
TZNAME:CEST
DTSTART:20250330T010000
END:DAYLIGHT
BEGIN:STANDARD
TZOFFSETFROM:+0200
TZOFFSETTO:+0100
TZNAME:CET
DTSTART:20251026T010000
END:STANDARD
BEGIN:DAYLIGHT
TZOFFSETFROM:+0100
TZOFFSETTO:+0200
TZNAME:CEST
DTSTART:20260329T010000
END:DAYLIGHT
BEGIN:STANDARD
TZOFFSETFROM:+0200
TZOFFSETTO:+0100
TZNAME:CET
DTSTART:20261025T010000
END:STANDARD
BEGIN:DAYLIGHT
TZOFFSETFROM:+0100
TZOFFSETTO:+0200
TZNAME:CEST
DTSTART:20270328T010000
END:DAYLIGHT
BEGIN:STANDARD
TZOFFSETFROM:+0200
TZOFFSETTO:+0100
TZNAME:CET
DTSTART:20271031T010000
END:STANDARD
END:VTIMEZONE
BEGIN:VEVENT
DTSTART;VALUE=DATE:20260620
DTEND;VALUE=DATE:20260628
DTSTAMP:20260425T010000
CREATED:20260308T084603Z
LAST-MODIFIED:20260308T084633Z
UID:1761-1781913600-1782604799@grimpe13.org
SUMMARY:Sortie Grandes voies en Oisans du 20 au 27 juin 2026
DESCRIPTION:Céline et Matthieu proposent une sortie Grandes voies en Oisans du 20 au 27 juin. Le logement se trouve à l’école près des sites de la Matheysine. Des incursions sur le site de Chamrousse seront également possibles. On y trouve des grandes voies de quelques longueurs comme des grandes voies plus longues. \nPour pouvoir profiter pleinement de la semaine\, il faut avoir un niveau minimum 5b en tête en couenne. La sortie est ouverte aux grimpeurs adultes\, débutants ou autonomes en grande voies.\n\nLe coût estimé de la sortie s’élève à 350€.\n\nL’inscription se fait par mail auprès de Céline et Matthieu avant le 17 mars à 18h.
URL:https://grimpe13.org/event/sortie-grandes-voies-en-oisans-du-20-au-27-juin-2026/
CATEGORIES:Sorties
END:VEVENT
END:VCALENDAR