BEGIN:VCALENDAR
VERSION:2.0
PRODID:-//Grimpe 13 - ECPv6.15.15//NONSGML v1.0//EN
CALSCALE:GREGORIAN
METHOD:PUBLISH
X-WR-CALNAME:Grimpe 13
X-ORIGINAL-URL:https://grimpe13.org
X-WR-CALDESC:Évènements pour Grimpe 13
REFRESH-INTERVAL;VALUE=DURATION:PT1H
X-Robots-Tag:noindex
X-PUBLISHED-TTL:PT1H
BEGIN:VTIMEZONE
TZID:Europe/Paris
BEGIN:DAYLIGHT
TZOFFSETFROM:+0100
TZOFFSETTO:+0200
TZNAME:CEST
DTSTART:20250330T010000
END:DAYLIGHT
BEGIN:STANDARD
TZOFFSETFROM:+0200
TZOFFSETTO:+0100
TZNAME:CET
DTSTART:20251026T010000
END:STANDARD
BEGIN:DAYLIGHT
TZOFFSETFROM:+0100
TZOFFSETTO:+0200
TZNAME:CEST
DTSTART:20260329T010000
END:DAYLIGHT
BEGIN:STANDARD
TZOFFSETFROM:+0200
TZOFFSETTO:+0100
TZNAME:CET
DTSTART:20261025T010000
END:STANDARD
BEGIN:DAYLIGHT
TZOFFSETFROM:+0100
TZOFFSETTO:+0200
TZNAME:CEST
DTSTART:20270328T010000
END:DAYLIGHT
BEGIN:STANDARD
TZOFFSETFROM:+0200
TZOFFSETTO:+0100
TZNAME:CET
DTSTART:20271031T010000
END:STANDARD
END:VTIMEZONE
BEGIN:VEVENT
DTSTART;VALUE=DATE:20260613
DTEND;VALUE=DATE:20260615
DTSTAMP:20260425T010124
CREATED:20260407T103211Z
LAST-MODIFIED:20260407T103211Z
UID:1789-1781308800-1781481599@grimpe13.org
SUMMARY:Sortie escalade à Hauteroche du 13 au 14 juin 2026
DESCRIPTION:Anne et Luc proposent une sortie C13/G13 à Hauteroche le week-end du 13 au 14 juin 2026. \nCette sortie est ouverte à toutes et tous. Une formation sera proposée aux débutant·es. \nComme d’habitude on dormira au bivouac à 10mn à pied de la falaise. \nGrand BBQ en commun le samedi soir. \nLe transport se fera en covoiturage ou en train + vélo. \nN’hésitez pas à contacter Anne ou Luc pour plus d’info.
URL:https://grimpe13.org/event/sortie-escalade-a-hauteroche-du-13-au-14-juin-2026/
CATEGORIES:Sorties
END:VEVENT
END:VCALENDAR