BEGIN:VCALENDAR
VERSION:2.0
PRODID:-//Grimpe 13 - ECPv6.15.15//NONSGML v1.0//EN
CALSCALE:GREGORIAN
METHOD:PUBLISH
X-WR-CALNAME:Grimpe 13
X-ORIGINAL-URL:https://grimpe13.org
X-WR-CALDESC:Évènements pour Grimpe 13
REFRESH-INTERVAL;VALUE=DURATION:PT1H
X-Robots-Tag:noindex
X-PUBLISHED-TTL:PT1H
BEGIN:VTIMEZONE
TZID:Europe/Paris
BEGIN:DAYLIGHT
TZOFFSETFROM:+0100
TZOFFSETTO:+0200
TZNAME:CEST
DTSTART:20250330T010000
END:DAYLIGHT
BEGIN:STANDARD
TZOFFSETFROM:+0200
TZOFFSETTO:+0100
TZNAME:CET
DTSTART:20251026T010000
END:STANDARD
BEGIN:DAYLIGHT
TZOFFSETFROM:+0100
TZOFFSETTO:+0200
TZNAME:CEST
DTSTART:20260329T010000
END:DAYLIGHT
BEGIN:STANDARD
TZOFFSETFROM:+0200
TZOFFSETTO:+0100
TZNAME:CET
DTSTART:20261025T010000
END:STANDARD
BEGIN:DAYLIGHT
TZOFFSETFROM:+0100
TZOFFSETTO:+0200
TZNAME:CEST
DTSTART:20270328T010000
END:DAYLIGHT
BEGIN:STANDARD
TZOFFSETFROM:+0200
TZOFFSETTO:+0100
TZNAME:CET
DTSTART:20271031T010000
END:STANDARD
END:VTIMEZONE
BEGIN:VEVENT
DTSTART;TZID=Europe/Paris:20260110T120000
DTEND;TZID=Europe/Paris:20260110T140000
DTSTAMP:20260425T032645
CREATED:20260107T120356Z
LAST-MODIFIED:20260120T152934Z
UID:1690-1768046400-1768053600@grimpe13.org
SUMMARY:Reprise de la Dansescalade
DESCRIPTION:Qu’est ce que c’est ? \nC’est une approche particulière de l’escalade et de la danse contemporaine qui allie toutes sortes de déplacements et de figures sur une structure verticale d’escalade au son d’une musique en effectuant des mouvements chorégraphiés. Une grande place est laissée à la créativité et la spontanéité des participants dans une approche ludique de l’espace au sein d’un groupe. \nOù et quand ? \nLes séances se dérouleront en général les samedis toutes les 2 semaines hors vacances scolaires de 12h00 à 14h00 sur le mur d’escalade de Grimpe 13 au gymnase Choisy. \n  \nComment ça se passe ? \nNous commencerons par un échauffement au sol puis nous investirons progressivement le mur. Pour la première séance\, selon le nombre de participant.es nous nous installerons sur les voies de la porte centrale  à la 17. \nLes 2 premières séances permettront à celles et ceux qui veulent essayer de s’initier. Vous pourrez également profiter des acquis et de ce que peuvent réaliser les confirmé.es. \nPour des raisons de sécurité\, il est nécessaire de maîtriser l’assurage des partenaires et l’auto-assurage. Le niveau minimum est de 4+/5 de façon a ne pas être trop contracté.e pour les déplacements. \n  \nL’ensemble du mur n’est pas réservé à la Dansescalade il est donc tout à fait possible d’utiliser les autres voies. Il y aura de la musique durant la séance.
URL:https://grimpe13.org/event/reprise-de-la-dansescalade/
LOCATION:Gymnase Choisy\, 4 avenue de Choisy\, Paris\, 75013\, France
CATEGORIES:Vie du club
END:VEVENT
END:VCALENDAR